Workbook

Sheet Consolidated
D1: Vacation Items Checklist
B3: Submission Date (dd/mm/yy)
B4: Client Name
B5: Client Contact Number | C5: Mobile: | E5: Postal Code
B6: Delivery Address
B7: Delivery/Request Date(dd/mm/yy) | E7: Preferred Time
B8: Client Email Address
B10: Bill to (Company Name)(If applicable)
B11: Billing Address (Company Address) | E11: Postal Code
B12: Company Contact | C12: TEL: | E12: FAX:
B13: Company Email Address
B15: Type of Lease(Corporate/Personal/Others):
B16: Lease Duration- 1/2/3 mth(s):
B17: Family Size:
B18: Remarks if any:
B20: Summary | C20: Total Value S$
B21: Furniture | C21: ='STR Checklist'!E144 -> 0
B22: Bedlinen & Bathroom items | C22: ='STR Checklist'!E145 -> 0
B23: Electronics | C23: ='STR Checklist'!E146 -> 0
B24: Kitchenware, Tableware & Others | C24: ='STR Checklist'!E147 -> 0
B25: Consumable & New-Sale Only | C25: ='STR Checklist'!E148 -> 0
B26: Sub Total | C26: =SUM(C21:C25) -> 0 | D26: (A)
B27: Security Deposit | C27: 200
B28: Transport | C28: 200 | D28: (B)
B29: Condominium Management Charges (Non-refundable) | D29: ( C)
B30: GST 9%* | C30: =(C26+C28+C29)*0.09 -> 18 | D30: (9% of A + B + C)
B31: Grand Total | C31: =SUM(C26:C30) -> 418
B33: Terms & Conditions:
B34: 1. The rates quoted for short term rental are applicable on a minimum of one month, renewable on monthly basis and can be prorated at a fortnightly period after the fulfilment of the first month.
B35: 2. The furniture is reconditioned and all linens are freshly laundered. All items are subject to availability. We hope you understand that you are unable to select the design and colour for short-term rentals.
B36: 3. Full payment (rental + SD + transportation) needs to be paid upon order confirmation, prior to the delivery.
B37: 4. Payment by credit cards are subject to handling charges / Cheque must be cleared before delivery. (Please refer to "Payment Details")
B38: 5. Security Deposit is fully refundable within 14 days after expiry of the lease (without interest) and is held by WTP against loss or willful misure of the furniture.
B39: 6. Condominium management charges (if applicable) will be borne by the client.
B40: 7. Transportation is charged at $200 (delivery and collection). Subsequent trips are chargeable at a minimum of $100.00 per trip.
B41: 8. Delivery and Collection of furniture - 3 working days is required upon confirmation (excluding Public Holidays & Weekends).
B42: 9. Items which are soiled, damaged or missing will be invoiced separately.
B43: 10. Signed proposal is final as confirmation of order. Cancellation will attract a 50% penalty charge based on monthly rental.
B44: 11. We are unable to cancel specific items 24 hours before delivery. For any cancellation of items 24 hours before delivery, or items cancelled during the delivery, there will be no adjustment to the monthly rental.
... B49: Signature:

Sheet STR Checklist
F2: Vacation Items Checklist
B4: =Consolidated!$C$4 -> 0
B5: Category | C5: Nav Code | D5: Code | E5: Category | F5: Item Description | G5: Qty | H5: Rates | I5: Total Value | J5: Done
B6: Living room | C6: Item | D6: STR/FUR/001 | E6: Living room | F6: 2 Seater Sofa | H6: 100 | I6: =Checklist23234[[#This Row],[Qty]]*Checklist23234[[#This Row],[Rates]] -> 0
C7: Item | D7: STR/FUR/002 | E7: Living room | F7: 3 Seater Sofa | H7: 150 | I7: =Checklist23234[[#This Row],[Qty]]*Checklist23234[[#This Row],[Rates]] -> 0
C8: Item | D8: STR/FUR/003 | E8: Living room | F8: L-Shaped Sofa | H8: 300 | I8: =Checklist23234[[#This Row],[Qty]]*Checklist23234[[#This Row],[Rates]] -> 0
C9: Item | D9: STR/FUR/004 | E9: Living room | F9: Coffee Table | H9: 50 | I9: =Checklist23234[[#This Row],[Qty]]*Checklist23234[[#This Row],[Rates]] -> 0
C10: Item | D10: STR/FUR/005 | E10: Living room | F10: Wooden Armchair | H10: 45 | I10: =Checklist23234[[#This Row],[Qty]]*Checklist23234[[#This Row],[Rates]] -> 0
C11: Item | D11: STR/FUR/006 | E11: Living room | F11: Upholstered Armchair | H11: 60 | I11: =Checklist23234[[#This Row],[Qty]]*Checklist23234[[#This Row],[Rates]] -> 0
C12: Item | D12: STR/FUR/007 | E12: Living room | F12: Side table | H12: 30 | I12: =Checklist23234[[#This Row],[Qty]]*Checklist23234[[#This Row],[Rates]] -> 0
C13: Item | D13: STR/FUR/008 | E13: Living room | F13: TV Sideboard | H13: 90 | I13: =Checklist23234[[#This Row],[Qty]]*Checklist23234[[#This Row],[Rates]] -> 0
C14: Item | D14: STR/FUR/009 | E14: Living room | F14: Console Table | H14: 50 | I14: =Checklist23234[[#This Row],[Qty]]*Checklist23234[[#This Row],[Rates]] -> 0
C15: Item | D15: STR/ELE/001 | E15: Living room | F15: Table Lamp | H15: 15 | I15: =Checklist23234[[#This Row],[Qty]]*Checklist23234[[#This Row],[Rates]] -> 0
C16: Item | D16: STR/ELE/002 | E16: Living room | F16: Floor Lamp | H16: 25 | I16: =Checklist23234[[#This Row],[Qty]]*Checklist23234[[#This Row],[Rates]] -> 0
B17: Dining Room | C17: Item | D17: STR/FUR/010 | E17: Dining Room | F17: 4-Seater Dining Table & Chairs | H17: 180 | I17: =Checklist23234[[#This Row],[Qty]]*Checklist23234[[#This Row],[Rates]] -> 0
C18: Item | D18: STR/FUR/011 | E18: Dining Room | F18: 6-Seater Dining Table & Chairs | H18: 200 | I18: =Checklist23234[[#This Row],[Qty]]*Checklist23234[[#This Row],[Rates]] -> 0
C19: Item | D19: STR/FUR/012 | E19: Dining Room | F19: 8-Seater Dining Table & Chairs | H19: 260 | I19: =Checklist23234[[#This Row],[Qty]]*Checklist23234[[#This Row],[Rates]] -> 0
C20: Item | D20: STR/FUR/013 | E20: Dining Room | F20: Dining Table | H20: 125 | I20: =Checklist23234[[#This Row],[Qty]]*Checklist23234[[#This Row],[Rates]] -> 0
C21: Item | D21: STR/FUR/014 | E21: Dining Room | F21: Dining Chair | H21: 13 | I21: =Checklist23234[[#This Row],[Qty]]*Checklist23234[[#This Row],[Rates]] -> 0
C22: Item | D22: STR/FUR/015 | E22: Dining Room | F22: Buffet Sideboard | H22: 90 | I22: =Checklist23234[[#This Row],[Qty]]*Checklist23234[[#This Row],[Rates]] -> 0
B23: Bedroom | C23: Item | D23: STR/FUR/016 | E23: Bedroom | F23: King Headboard | H23: 40 | I23: =Checklist23234[[#This Row],[Qty]]*Checklist23234[[#This Row],[Rates]] -> 0
C24: Item | D24: STR/FUR/017 | E24: Bedroom | F24: King Divan Bed +Spring Mattress W182XL190cm | H24: 160 | I24: =Checklist23234[[#This Row],[Qty]]*Checklist23234[[#This Row],[Rates]] -> 0
C25: Item | D25: STR/FUR/018 | E25: Bedroom | F25: Queen Headboard | H25: 30 | I25: =Checklist23234[[#This Row],[Qty]]*Checklist23234[[#This Row],[Rates]] -> 0
C26: Item | D26: STR/FUR/019 | E26: Bedroom | F26: Queen Divan Bed+Spring Mattress W152 xL190cm | H26: 150 | I26: =Checklist23234[[#This Row],[Qty]]*Checklist23234[[#This Row],[Rates]] -> 0
C27: Item | D27: STR/FUR/020 | E27: Bedroom | F27: Single Headboard | H27: 25 | I27: =Checklist23234[[#This Row],[Qty]]*Checklist23234[[#This Row],[Rates]] -> 0
C28: Item | D28: STR/FUR/021 | E28: Bedroom | F28: Single Divan Bed+Spring Mattress W90 x L190cm | H28: 100 | I28: =Checklist23234[[#This Row],[Qty]]*Checklist23234[[#This Row],[Rates]] -> 0
C29: Item | D29: STR/FUR/022 | E29: Bedroom | F29: Bedside Table | H29: 20 | I29: =Checklist23234[[#This Row],[Qty]]*Checklist23234[[#This Row],[Rates]] -> 0
C30: Item | D30: STR/ELE/003 | E30: Bedroom | F30: Bedside Lamp | H30: 15 | I30: =Checklist23234[[#This Row],[Qty]]*Checklist23234[[#This Row],[Rates]] -> 0
B31: Bedlinen - Freshly Laundered | C31: Item | D31: STR/BNT/001 | E31: Bedlinen | F31: King Bedlinen Set* | H31: 180 | I31: =Checklist23234[[#This Row],[Qty]]*Checklist23234[[#This Row],[Rates]] -> 0
C32: Item | D32: STR/BNT/002 | E32: Bedlinen | F32: King Bedlinen Change Set (covers & sheet only) | H32: 120 | I32: =Checklist23234[[#This Row],[Qty]]*Checklist23234[[#This Row],[Rates]] -> 0
B33: (*All sets include Fitted Sheet, Pillows w/Case & Protector, Duvet w/cover and Mattress Protector) | C33: Item | D33: STR/BNT/003 | E33: Bedlinen | F33: Queen Bedlinen Set* | H33: 160 | I33: =Checklist23234[[#This Row],[Qty]]*Checklist23234[[#This Row],[Rates]] -> 0
C34: Item | D34: STR/BNT/004 | E34: Bedlinen | F34: Queen Bedlinen Change Set (covers & sheet only) | H34: 100 | I34: =Checklist23234[[#This Row],[Qty]]*Checklist23234[[#This Row],[Rates]] -> 0
C35: Item | D35: STR/BNT/005 | E35: Bedlinen | F35: Single Bedlinen Set* | H35: 120 | I35: =Checklist23234[[#This Row],[Qty]]*Checklist23234[[#This Row],[Rates]] -> 0
C36: Item | D36: STR/BNT/006 | E36: Bedlinen | F36: Single Bedlinen Change Set (covers & sheet only) | H36: 60 | I36: =Checklist23234[[#This Row],[Qty]]*Checklist23234[[#This Row],[Rates]] -> 0
B37: Bedlinen New - For Sale Only | C37: Item | D37: STR/CNS/001 | E37: Bedlinen - New | F37: King Bedlinen Set ^Brand New | H37: 300 | I37: =Checklist23234[[#This Row],[Qty]]*Checklist23234[[#This Row],[Rates]] -> 0
B38: ( ^Fitted Sheet + Duvet w/Cover + 2Pc (King & Queen) or 1pc (Single)Pillows w/ Covers ) | C38: Item | D38: STR/CNS/002 | E38: Bedlinen - New | F38: Queen Bedlinen Set ^Brand New | H38: 280 | I38: =Checklist23234[[#This Row],[Qty]]*Checklist23234[[#This Row],[Rates]] -> 0
C39: Item | D39: STR/CNS/003 | E39: Bedlinen - New | F39: Single Bedlinen Set ^Brand New | H39: 230 | I39: =Checklist23234[[#This Row],[Qty]]*Checklist23234[[#This Row],[Rates]] -> 0
B40: Study Room & Optional | C40: Item | D40: STR/FUR/023 | E40: Study Room & Optional | F40: Writing Table | H40: 60 | I40: =Checklist23234[[#This Row],[Qty]]*Checklist23234[[#This Row],[Rates]] -> 0
C41: Item | D41: STR/FUR/024 | E41: Study Room & Optional | F41: Writing Chair | H41: 30 | I41: =Checklist23234[[#This Row],[Qty]]*Checklist23234[[#This Row],[Rates]] -> 0
C42: Item | D42: STR/ELE/004 | E42: Study Room & Optional | F42: Study Lamp | H42: 15 | I42: =Checklist23234[[#This Row],[Qty]]*Checklist23234[[#This Row],[Rates]] -> 0
...

Sheet Payment Details
D1: Vacation Items Checklist
C2: PAYMENT DETAILS
B5: Beneficiary Bank Name & Country Location | C5: DBS Bank Limited, Singapore
B6: Beneficiary Bank Address | C6: 12 Marina Boulevard DBS Asia Central Marina Bay Financial Centre Tower 3 Singapore 018982
B7: Beneficiary Bank Code | C7: 7171
B8: Beneficiary Bank Branch Code | C8: 003
B9: Beneficiary Bank Account | C9: 003-955594-6
B10: Swift Code | C10: DBSSSGSG (XXX If require 3 additional code)
B11: Pay Now | C11: 196800553E
B12: DBS Scan to Pay
